BEGIN:VCALENDAR
VERSION:2.0
PRODID:icalendar-ruby
CALSCALE:GREGORIAN
METHOD:PUBLISH
BEGIN:VEVENT
DTSTAMP:20260423T105332Z
UID:14-397836@citypointechurch.com
DTSTART:20260506T230000Z
DTEND:20260507T000000Z
CLASS:PUBLIC
CREATED:20260417T100542
DESCRIPTION:We are all being "formed" by something. Right now\, most of us 
 are being formed by a culture of hurry\, digital noise\, and the constant\
 , nagging anxiety that we don't have enough—enough time\, enough talent\
 , or enough treasure. This class is an invitation to pause and ask: Is th
 e way I’m living actually leading me to the life Jesus promised?\n \nWe
  aren't gathering to talk about church budgets\; we’re gathering to talk
  about freedom.\n\nTime: To move from being "busy" to being "present."\n
 Talent: To move from "ambition" to "calling."\nTreasure: To move from "s
 carcity" to "abundance."\n\nThe reason to be a part of this is simple: the
 re is a deep\, quiet joy found in living open-handedly that a consumeristi
 c culture can never offer. We want to help you architect a life where you 
 are no longer enslaved by the "more\," but fully alive in the "enough." Th
 is is about becoming the kind of person who is at rest in the Kingdom of G
 od\, right here and now.
LAST-MODIFIED:20260417T100542
LOCATION:Theater 7
SUMMARY:Living Generously
URL;VALUE=URI:https://www.citypointechurch.com/events/living-generously/202
 6-05-06
ATTACH;FILENAME=gen-living-16x9.png;FMTTYPE=image/png:https://dq5pwpg1q8ru0
 .cloudfront.net/2026/04/17/14/05/42/68ac63e3-a199-485a-aeb2-f82e4096bce6/g
 en-living-16x9.png
END:VEVENT
END:VCALENDAR
