BEGIN:VCALENDAR
VERSION:2.0
PRODID:icalendar-ruby
CALSCALE:GREGORIAN
METHOD:PUBLISH
BEGIN:VEVENT
DTSTAMP:20260423T161705Z
UID:13-397752@citypointechurch.com
DTSTART:20260808T203000Z
DTEND:20260808T220000Z
CLASS:PUBLIC
CREATED:20260416T195017
DESCRIPTION:Join us for “Share the Table: Feeding Our Community\,” a co
 mmunity event dedicated to providing nourishment and support to those in n
 eed in Plant City. This gathering is more than just a meal\; it’s an opp
 ortunity to come together as a community and extend a hand to our neighbor
 s and demonstrate the love of Christ.
LAST-MODIFIED:20260416T195017
LOCATION:402 W. English St.\, Plant City
SUMMARY:Share The Table
URL;VALUE=URI:https://www.citypointechurch.com/events/share-the-table/2026-
 08-08
ATTACH;FILENAME=IMG_3305.JPG;FMTTYPE=image/jpeg:https://dq5pwpg1q8ru0.cloud
 front.net/2026/04/16/23/50/17/941f810d-d02e-4114-891d-46ab825d4b63/IMG_330
 5.JPG
END:VEVENT
END:VCALENDAR
