BEGIN:VCALENDAR
VERSION:2.0
PRODID:icalendar-ruby
CALSCALE:GREGORIAN
METHOD:PUBLISH
BEGIN:VEVENT
DTSTAMP:20260423T081719Z
UID:15-397773@citypointechurch.com
DTSTART:20260426T133000Z
DTEND:20260426T140000Z
CLASS:PUBLIC
CREATED:20260416T200414
DESCRIPTION:Student Gathering
LAST-MODIFIED:20260416T200414
LOCATION:Theater 7
SUMMARY:Student Gathering
URL;VALUE=URI:https://www.citypointechurch.com/events/student-gathering/202
 6-04-26
END:VEVENT
END:VCALENDAR
